BEGIN:VCALENDAR
PRODID;X-RICAL-TZSOURCE=TZINFO:-//com.denhaven2/NONSGML ri_cal gem//EN
CALSCALE:GREGORIAN
VERSION:2.0
BEGIN:VEVENT
DTEND;VALUE=DATE-TIME:20260425T120000
DTSTART;VALUE=DATE-TIME:20260425T090000
DESCRIPTION:Each year\, EBRWG volunteers to provide a bike safety rodeo d
 uring the Las Cruces Safe Routes to School's Family Bike Fiesta.  This s
 uper fun event is free and open to the whole community.  Activities incl
 ude: kids bike repair\, helmets\, learn to ride classes\, adaptive cycle
  area\, games\, community rides\, mountain bike skills course and much m
 ore. \n\nIf you are interested in volunteering for the Family Bike Fiest
 a in any capacity\, please contact me and I will connect you with the or
 ganizers. 
URL:https://www.givegab.com/nonprofits/velo-cruces-inc/opportunities/fami
 ly-bike-fiesta
SUMMARY:Family Bike Fiesta
LOCATION:Lynn Community Middle School 950 S. Walnut Street\, Las Cruces\,
  NM 88001\, United States
END:VEVENT
END:VCALENDAR
