BEGIN:VCALENDAR
PRODID;X-RICAL-TZSOURCE=TZINFO:-//com.denhaven2/NONSGML ri_cal gem//EN
CALSCALE:GREGORIAN
VERSION:2.0
BEGIN:VEVENT
DTEND;VALUE=DATE-TIME:20260606T120000
DTSTART;VALUE=DATE-TIME:20260606T080000
DESCRIPTION:Each year\,  EBRWG holds an adaptive cycle "parade" to celebr
 ate all of our adaptive cycle recipients.  Activities include cycle give
 aways\, helmet fittings\, a decoration station\, a group ride and refres
 hment at the end of the event.  The event runs from 9-11.  We ask volunt
 eers to arrive at 8:00 for set up and stay after for clean up.  We set u
 p on the lawn of the Mesilla Community Center. The ride begins at 9:30. 
  This year we would like to offer more activity tables\, sensory or hand
 s on activities during the event.  If you are an individual or organizat
 ion that would like to set up a table and provide some activities during
  our parade\, please contact me and share this information.  We would al
 so welcome people setting up a water station along the parade route.  Th
 e event is free and open to the whole community.  Participants are welco
 me to walk\, ride or roll along the parade route. Well behaved leashed p
 ets are also welcome to attend. 
URL:https://www.givegab.com/nonprofits/velo-cruces-inc/opportunities/ever
 y-body-rides-with-grace-adaptive-cycle-parade-in-old-mesilla
SUMMARY:Every Body Rides with Grace Adaptive Cycle Parade in Old Mesilla
LOCATION:2251 Calle de Santiago\, Mesilla\, NM 88046\, United States
END:VEVENT
END:VCALENDAR
