BEGIN:VCALENDAR
PRODID;X-RICAL-TZSOURCE=TZINFO:-//com.denhaven2/NONSGML ri_cal gem//EN
CALSCALE:GREGORIAN
VERSION:2.0
BEGIN:VEVENT
DTEND;VALUE=DATE-TIME:20260506T183000
DTSTART;VALUE=DATE-TIME:20260506T163000
DESCRIPTION:Join us at the Here's How Public House to kick off National B
 ike Month!
URL:https://www.givegab.com/nonprofits/boise-bicycle-project/opportunitie
 s/bike-trivia-night
SUMMARY:Bike Trivia Night 
LOCATION:572 S Vista Ave\, Boise\, Idaho 83706
END:VEVENT
END:VCALENDAR
